BEGIN:VCALENDAR
VERSION:2.0
PRODID:-//Corrèze Environnement - ECPv6.15.11//NONSGML v1.0//EN
CALSCALE:GREGORIAN
METHOD:PUBLISH
X-WR-CALNAME:Corrèze Environnement
X-ORIGINAL-URL:https://correzeenvironnement.com
X-WR-CALDESC:Évènements pour Corrèze Environnement
REFRESH-INTERVAL;VALUE=DURATION:PT1H
X-Robots-Tag:noindex
X-PUBLISHED-TTL:PT1H
BEGIN:VTIMEZONE
TZID:UTC
BEGIN:STANDARD
TZOFFSETFROM:+0000
TZOFFSETTO:+0000
TZNAME:UTC
DTSTART:20240101T000000
END:STANDARD
END:VTIMEZONE
BEGIN:VEVENT
DTSTART;TZID=UTC:20251203T100000
DTEND;TZID=UTC:20251203T120000
DTSTAMP:20260421T225053
CREATED:20251125T095053Z
LAST-MODIFIED:20251125T095053Z
UID:11095-1764756000-1764763200@correzeenvironnement.com
SUMMARY:Animation Lycée
DESCRIPTION:Intervention de CORREZE environnement dans le cadre d’un projet Erasmus
URL:https://correzeenvironnement.com/evennement/animation-lycee/
LOCATION:lycée Bahuet\, Brive\, 19100
CATEGORIES:atelier,EEDD
END:VEVENT
BEGIN:VEVENT
DTSTART;TZID=UTC:20251211T183000
DTEND;TZID=UTC:20251211T193000
DTSTAMP:20260421T225053
CREATED:20251215T142619Z
LAST-MODIFIED:20251215T142707Z
UID:11150-1765477800-1765481400@correzeenvironnement.com
SUMMARY:Atelier Jardin: SEL de Terre
DESCRIPTION:Réunion des jardiniers et jardinières de SEL de Terre accueillie par Rémi et Annick
URL:https://correzeenvironnement.com/evennement/atelier-jardin-sel-de-terre/
LOCATION:Lagarde Enval\, Lagarde Enval
CATEGORIES:atelier
END:VEVENT
BEGIN:VEVENT
DTSTART;VALUE=DATE:20251215
DTEND;VALUE=DATE:20251216
DTSTAMP:20260421T225053
CREATED:20251215T142419Z
LAST-MODIFIED:20251215T142419Z
UID:11147-1765756800-1765843199@correzeenvironnement.com
SUMMARY:Journée Eau FNE NA
DESCRIPTION:Réunion de formation sur l’eau: SDAGEs\, Comités de bassin\, programme Re – source\, Sentinelles de l’Eau
URL:https://correzeenvironnement.com/evennement/journee-eau-fne-na/
LOCATION:angoulême\, Angoulême
CATEGORIES:atelier
END:VEVENT
BEGIN:VEVENT
DTSTART;TZID=UTC:20251215T180000
DTEND;TZID=UTC:20251215T190000
DTSTAMP:20260421T225053
CREATED:20251215T142955Z
LAST-MODIFIED:20251215T143114Z
UID:11153-1765821600-1765825200@correzeenvironnement.com
SUMMARY:Tribune : forêt avec Alain Persuy (FNE)
DESCRIPTION:Programme des Tribunes  à 18h
URL:https://correzeenvironnement.com/evennement/tribune-foret-avec-alain-persuy-fne/
LOCATION:Tulle salle latreille\, impasse Latreille\, TULLE\, 19000
CATEGORIES:atelier
END:VEVENT
END:VCALENDAR