BEGIN:VCALENDAR
VERSION:2.0
PRODID:-//Corrèze Environnement - ECPv6.15.11//NONSGML v1.0//EN
CALSCALE:GREGORIAN
METHOD:PUBLISH
X-WR-CALNAME:Corrèze Environnement
X-ORIGINAL-URL:https://correzeenvironnement.com
X-WR-CALDESC:Évènements pour Corrèze Environnement
REFRESH-INTERVAL;VALUE=DURATION:PT1H
X-Robots-Tag:noindex
X-PUBLISHED-TTL:PT1H
BEGIN:VTIMEZONE
TZID:UTC
BEGIN:STANDARD
TZOFFSETFROM:+0000
TZOFFSETTO:+0000
TZNAME:UTC
DTSTART:20250101T000000
END:STANDARD
END:VTIMEZONE
BEGIN:VEVENT
DTSTART;TZID=UTC:20260120T140000
DTEND;TZID=UTC:20260120T170000
DTSTAMP:20260422T044316
CREATED:20260121T100239Z
LAST-MODIFIED:20260121T100322Z
UID:11174-1768917600-1768928400@correzeenvironnement.com
SUMMARY:COPIL Natura 2000 ZPS Gorges de la Dordogne
DESCRIPTION:Réunion de bilan annuel des actions menées et des projets par la LPO\, chargée de animation de ce site\nCORREZE environnement participe à ce copil
URL:https://correzeenvironnement.com/evennement/copil-natura-2000-zps-gorges-de-la-dordogne/
CATEGORIES:commission
END:VEVENT
BEGIN:VEVENT
DTSTART;TZID=UTC:20260121T080000
DTEND;TZID=UTC:20260121T170000
DTSTAMP:20260422T044316
CREATED:20260121T101100Z
LAST-MODIFIED:20260121T101100Z
UID:11179-1768982400-1769014800@correzeenvironnement.com
SUMMARY:CODERST de la Corrèze
DESCRIPTION:Réunion de la commission CODERST 19: dossier de reconstruction de l’usine d’incinération de St Pantaléon de Larche\nCORREZE environnement participe à cette commission
URL:https://correzeenvironnement.com/evennement/coderst-de-la-correze/
CATEGORIES:commission
END:VEVENT
END:VCALENDAR