BEGIN:VCALENDAR
VERSION:2.0
PRODID:-//Corrèze Environnement - ECPv6.15.11//NONSGML v1.0//EN
CALSCALE:GREGORIAN
METHOD:PUBLISH
X-WR-CALNAME:Corrèze Environnement
X-ORIGINAL-URL:https://correzeenvironnement.com
X-WR-CALDESC:Évènements pour Corrèze Environnement
REFRESH-INTERVAL;VALUE=DURATION:PT1H
X-Robots-Tag:noindex
X-PUBLISHED-TTL:PT1H
BEGIN:VTIMEZONE
TZID:UTC
BEGIN:STANDARD
TZOFFSETFROM:+0000
TZOFFSETTO:+0000
TZNAME:UTC
DTSTART:20240101T000000
END:STANDARD
END:VTIMEZONE
BEGIN:VEVENT
DTSTART;TZID=UTC:20251120T090000
DTEND;TZID=UTC:20251120T120000
DTSTAMP:20260422T100141
CREATED:20251125T093526Z
LAST-MODIFIED:20251125T093526Z
UID:11083-1763629200-1763640000@correzeenvironnement.com
SUMMARY:CDPENAF Corrèze
DESCRIPTION:Réunion de la Commission départementale de Protection des Espaces Naturels\, Agricole et Forestiers: Corrèze environnement y participe
URL:https://correzeenvironnement.com/evennement/cdpenaf-correze/
LOCATION:Chambre d’agriculture Tulle\, immeuble consulaire de Puy Pinson\, TULLE\, 19000
CATEGORIES:commission
END:VEVENT
BEGIN:VEVENT
DTSTART;TZID=UTC:20251120T093000
DTEND;TZID=UTC:20251120T170000
DTSTAMP:20260422T100141
CREATED:20251125T094521Z
LAST-MODIFIED:20251125T094521Z
UID:11092-1763631000-1763658000@correzeenvironnement.com
SUMMARY:Observatoire de l’eau et des sols: groupes de travail
DESCRIPTION:Participation aux groupes de travail Quantité puis usages des sols
URL:https://correzeenvironnement.com/evennement/observatoire-de-leau-et-des-sols-groupes-de-travail-2/
LOCATION:Hotel Marbot\, 19000 TULLE\, Hotel du département Marbot\, TULLE\, 19000
CATEGORIES:atelier,commission
END:VEVENT
END:VCALENDAR