BEGIN:VCALENDAR
VERSION:2.0
PRODID:-//Corrèze Environnement - ECPv6.15.11//NONSGML v1.0//EN
CALSCALE:GREGORIAN
METHOD:PUBLISH
X-WR-CALNAME:Corrèze Environnement
X-ORIGINAL-URL:https://correzeenvironnement.com
X-WR-CALDESC:Évènements pour Corrèze Environnement
REFRESH-INTERVAL;VALUE=DURATION:PT1H
X-Robots-Tag:noindex
X-PUBLISHED-TTL:PT1H
BEGIN:VTIMEZONE
TZID:UTC
BEGIN:STANDARD
TZOFFSETFROM:+0000
TZOFFSETTO:+0000
TZNAME:UTC
DTSTART:20240101T000000
END:STANDARD
END:VTIMEZONE
BEGIN:VEVENT
DTSTART;TZID=UTC:20251127T093000
DTEND;TZID=UTC:20251127T120000
DTSTAMP:20260421T193015
CREATED:20251125T084927Z
LAST-MODIFIED:20251125T084927Z
UID:11067-1764235800-1764244800@correzeenvironnement.com
SUMMARY:Commission territoriale Dordogne
DESCRIPTION:Participation de corrèze environnement/FNE à la Réunion de la Commission Territoriale Dordogne  présidée par le président du CD19.\nordre du jour : Rencontres citoyennes\, Bilan besoins/ressources à horizon 2050 : premiers éléments\, Mix de solutions et programme d’actions associé : premières pistes de réflexion\, Calendrier des travaux à conduire \n 
URL:https://correzeenvironnement.com/evennement/commission-territoriale-dordogne/
LOCATION:Hotel Marbot\, 19000 TULLE\, Hotel du département Marbot\, TULLE\, 19000
CATEGORIES:commission
END:VEVENT
END:VCALENDAR