BEGIN:VCALENDAR
VERSION:2.0
PRODID:-//Corrèze Environnement - ECPv6.15.11//NONSGML v1.0//EN
CALSCALE:GREGORIAN
METHOD:PUBLISH
X-ORIGINAL-URL:https://correzeenvironnement.com
X-WR-CALDESC:Évènements pour Corrèze Environnement
REFRESH-INTERVAL;VALUE=DURATION:PT1H
X-Robots-Tag:noindex
X-PUBLISHED-TTL:PT1H
BEGIN:VTIMEZONE
TZID:UTC
BEGIN:STANDARD
TZOFFSETFROM:+0000
TZOFFSETTO:+0000
TZNAME:UTC
DTSTART:20240101T000000
END:STANDARD
END:VTIMEZONE
BEGIN:VEVENT
DTSTART;TZID=UTC:20251217T180000
DTEND;TZID=UTC:20251217T190000
DTSTAMP:20260421T174026
CREATED:20251215T130359Z
LAST-MODIFIED:20251215T130359Z
UID:11135-1765994400-1765998000@correzeenvironnement.com
SUMMARY:Groupe Etangs FNE
DESCRIPTION:Réunion du groupe Etangs por faire le point et prévoir les actions à venir\nRenseignement Cathy 0613882731
URL:https://correzeenvironnement.com/evennement/groupe-etangs-fne/
END:VEVENT
END:VCALENDAR