BEGIN:VCALENDAR
VERSION:2.0
PRODID:-//Corrèze Environnement - ECPv6.15.11//NONSGML v1.0//EN
CALSCALE:GREGORIAN
METHOD:PUBLISH
X-WR-CALNAME:Corrèze Environnement
X-ORIGINAL-URL:https://correzeenvironnement.com
X-WR-CALDESC:Évènements pour Corrèze Environnement
REFRESH-INTERVAL;VALUE=DURATION:PT1H
X-Robots-Tag:noindex
X-PUBLISHED-TTL:PT1H
BEGIN:VTIMEZONE
TZID:UTC
BEGIN:STANDARD
TZOFFSETFROM:+0000
TZOFFSETTO:+0000
TZNAME:UTC
DTSTART:20240101T000000
END:STANDARD
END:VTIMEZONE
BEGIN:VEVENT
DTSTART;TZID=UTC:20251218T090000
DTEND;TZID=UTC:20251218T120000
DTSTAMP:20260421T173825
CREATED:20251215T130100Z
LAST-MODIFIED:20251215T130100Z
UID:11133-1766048400-1766059200@correzeenvironnement.com
SUMMARY:Comite de suivi PDGE Corrèze
DESCRIPTION:Comité de suivi du PDGE 19 en présence du Préfet –\nUn bilan des actions de ce plan concourant aux objectifs de cette feuille de route du Département sera présenté. CORREZE environnement est invitée à présenter ses actions de sensibilisation
URL:https://correzeenvironnement.com/evennement/comite-de-suivi-pdge-correze/
CATEGORIES:commission
END:VEVENT
END:VCALENDAR