BEGIN:VCALENDAR
VERSION:2.0
PRODID:-//Corrèze Environnement - ECPv6.15.11//NONSGML v1.0//EN
CALSCALE:GREGORIAN
METHOD:PUBLISH
X-ORIGINAL-URL:https://correzeenvironnement.com
X-WR-CALDESC:Évènements pour Corrèze Environnement
REFRESH-INTERVAL;VALUE=DURATION:PT1H
X-Robots-Tag:noindex
X-PUBLISHED-TTL:PT1H
BEGIN:VTIMEZONE
TZID:UTC
BEGIN:STANDARD
TZOFFSETFROM:+0000
TZOFFSETTO:+0000
TZNAME:UTC
DTSTART:20250101T000000
END:STANDARD
END:VTIMEZONE
BEGIN:VEVENT
DTSTART;TZID=UTC:20260122T090000
DTEND;TZID=UTC:20260122T123000
DTSTAMP:20260421T154356
CREATED:20260121T100839Z
LAST-MODIFIED:20260121T100839Z
UID:11176-1769072400-1769085000@correzeenvironnement.com
SUMMARY:CLE du SAGE Vézère Corrèze
DESCRIPTION:Réunion de la Commission Locale de l’Eau (CLE) du SAGE  (Schéma d’Aménagement et de Gestion de l’Eau) présidé par M Teillac  et animée par le CD 19.\nOrdre du Jour: présentation et validation de la stratégie d’élaboration du SAGE\nCORREZE environnement/FNE Limousin participe à cette CLE
URL:https://correzeenvironnement.com/evennement/cle-du-sage-vezere-correze-2/
LOCATION:saint pantaléon de Larche\, Saint Pantaléon de Larche
END:VEVENT
BEGIN:VEVENT
DTSTART;TZID=UTC:20260122T180000
DTEND;TZID=UTC:20260122T200000
DTSTAMP:20260421T154356
CREATED:20260121T101313Z
LAST-MODIFIED:20260121T101313Z
UID:11181-1769104800-1769112000@correzeenvironnement.com
SUMMARY:CA de Sources et Rivières du Limousin
DESCRIPTION:CORREZE environnement participe à ce CA
URL:https://correzeenvironnement.com/evennement/ca-de-sources-et-rivieres-du-limousin/
LOCATION:1 route de la loutre\, 87430 Verneuil sur Vienne\, 1 route de la loutre\, Verneuil sur Vienne\, 87430\, France
CATEGORIES:vie associative
END:VEVENT
END:VCALENDAR